BEGIN:VCALENDAR
VERSION:2.0
PRODID:-//hacksw/handcal//NONSGML v1.0//EN
BEGIN:VEVENT
SUMMARY:Entrainement U18 G
UID:28821dc0-0895-476f-820d-ba3d3458214f
DTSTART:20250314T170000Z
DTEND:20250314T190000Z
LOCATION:Localisation Gymnase de la Grande Garenne 16000 Angouleme
CATEGORIES:Entrainement
STATUS:
URL;VALUE=URI:https://www.angoulemebasketclub.fr/evenements/2025/03/14/entrainement-u18-g-2090143
END:VEVENT
END:VCALENDAR
