BEGIN:VCALENDAR
VERSION:2.0
PRODID:-//hacksw/handcal//NONSGML v1.0//EN
BEGIN:VEVENT
SUMMARY:Entrainement U11 A et B
UID:5bd5a517-08b6-4042-9f72-f33d8aa4a5e5
DTSTART:20250314T170000Z
DTEND:20250314T181500Z
LOCATION:Salle Pierre de Coubertin 74 rue de la Tresoriere 16000 ANGOULEME
CATEGORIES:Entrainement
STATUS:
URL;VALUE=URI:https://www.angoulemebasketclub.fr/evenements/2025/03/14/entrainement-u11-a-et-b-2090031
END:VEVENT
END:VCALENDAR
