BEGIN:VCALENDAR
VERSION:2.0
PRODID:-//hacksw/handcal//NONSGML v1.0//EN
BEGIN:VEVENT
SUMMARY:Entrainement DM1
UID:75de706c-f80b-4336-b024-d1d1864eadf3
DTSTART:20250314T194500Z
DTEND:20250314T210000Z
LOCATION:Salle Pierre de Coubertin 74 rue de la Tresoriere 16000 ANGOULEME
CATEGORIES:Entrainement
STATUS:
URL;VALUE=URI:https://www.angoulemebasketclub.fr/evenements/2025/03/14/entrainement-dm1-2090105
END:VEVENT
END:VCALENDAR
