BEGIN:VCALENDAR
VERSION:2.0
PRODID:-//hacksw/handcal//NONSGML v1.0//EN
BEGIN:VEVENT
SUMMARY:Entrainement U18 1 et 2
UID:12735c44-9ebe-4e24-822d-11ba8592ee93
DTSTART:20250313T181500Z
DTEND:20250313T193000Z
LOCATION:Salle Pierre de Coubertin 74 rue de la Tresoriere 16000 ANGOULEME
CATEGORIES:Entrainement
STATUS:
URL;VALUE=URI:https://www.angoulemebasketclub.fr/evenements/2025/03/13/entrainement-u18-1-et-2-2089969
END:VEVENT
END:VCALENDAR
