BEGIN:VCALENDAR
VERSION:2.0
PRODID:-//hacksw/handcal//NONSGML v1.0//EN
BEGIN:VEVENT
SUMMARY:Entrainement U18 F
UID:609034e3-8bb6-4b1c-8fe3-be9e46a2a0e6
DTSTART:20250312T161500Z
DTEND:20250312T174500Z
LOCATION:Salle Pierre de Coubertin 74 rue de la Tresoriere 16000 ANGOULEME
CATEGORIES:Entrainement
STATUS:
URL;VALUE=URI:https://www.angoulemebasketclub.fr/evenements/2025/03/12/entrainement-u18-f-2089293
END:VEVENT
END:VCALENDAR
