BEGIN:VCALENDAR
VERSION:2.0
PRODID:-//hacksw/handcal//NONSGML v1.0//EN
BEGIN:VEVENT
SUMMARY:Entrainement U13 F
UID:270f4106-102d-4487-8f57-7ddb9ee4f7c5
DTSTART:20250312T170000Z
DTEND:20250312T181500Z
LOCATION:Localisation Gymnase Pierre Bodet 16000 Angouleme
CATEGORIES:Entrainement
STATUS:
URL;VALUE=URI:https://www.angoulemebasketclub.fr/evenements/2025/03/12/entrainement-u13-f-2089400
END:VEVENT
END:VCALENDAR
