BEGIN:VCALENDAR
VERSION:2.0
PRODID:-//hacksw/handcal//NONSGML v1.0//EN
BEGIN:VEVENT
SUMMARY:Entrainement RM3
UID:4c62b76a-82b9-4eeb-8c55-97d40b4a828e
DTSTART:20250312T193000Z
DTEND:20250312T210000Z
LOCATION:Localisation   
CATEGORIES:Entrainement
STATUS:
URL;VALUE=URI:https://www.angoulemebasketclub.fr/evenements/2025/03/12/entrainement-rm3-2089364
END:VEVENT
END:VCALENDAR
