BEGIN:VCALENDAR
VERSION:2.0
PRODID:-//hacksw/handcal//NONSGML v1.0//EN
BEGIN:VEVENT
SUMMARY:Entrainement DM2
UID:aeb437d4-07f0-4e76-bd03-a4c9851e3ebd
DTSTART:20250312T193000Z
DTEND:20250312T213000Z
LOCATION:Localisation Gymnase Pierre Bodet 16000 Angouleme
CATEGORIES:Entrainement
STATUS:
URL;VALUE=URI:https://www.angoulemebasketclub.fr/evenements/2025/03/12/entrainement-dm2-2089471
END:VEVENT
END:VCALENDAR
