BEGIN:VCALENDAR
VERSION:2.0
PRODID:-//hacksw/handcal//NONSGML v1.0//EN
BEGIN:VEVENT
SUMMARY:Entrainement Loisirs
UID:26314fe7-e6a2-41c0-a45a-6446441e3f2e
DTSTART:20250311T200000Z
DTEND:20250311T213000Z
LOCATION:Salle Pierre de Coubertin 74 rue de la Tresoriere 16000 ANGOULEME
CATEGORIES:Entrainement
STATUS:
URL;VALUE=URI:https://www.angoulemebasketclub.fr/evenements/2025/03/11/entrainement-loisirs-2089220
END:VEVENT
END:VCALENDAR
