BEGIN:VCALENDAR
VERSION:2.0
PRODID:-//hacksw/handcal//NONSGML v1.0//EN
BEGIN:VEVENT
SUMMARY:Entrainement DM1 et DM2
UID:acf19bcc-bbcb-48ad-acac-7f352fe6cfdf
DTSTART:20250311T181500Z
DTEND:20250311T200000Z
LOCATION:Salle Pierre de Coubertin 74 rue de la Tresoriere 16000 ANGOULEME
CATEGORIES:Entrainement
STATUS:
URL;VALUE=URI:https://www.angoulemebasketclub.fr/evenements/2025/03/11/entrainement-dm1-et-dm2-2089186
END:VEVENT
END:VCALENDAR
