BEGIN:VCALENDAR
VERSION:2.0
PRODID:-//hacksw/handcal//NONSGML v1.0//EN
BEGIN:VEVENT
SUMMARY:Entrainement U13 A
UID:4e637d7e-162d-4302-80c0-8f2740693efa
DTSTART:20250310T170000Z
DTEND:20250310T190000Z
LOCATION:Localisation Gymnase Pierre Bodet 16000 Angouleme
CATEGORIES:Entrainement
STATUS:
URL;VALUE=URI:https://www.angoulemebasketclub.fr/evenements/2025/03/10/entrainement-u13-a-2089104
END:VEVENT
END:VCALENDAR
