BEGIN:VCALENDAR
VERSION:2.0
PRODID:-//hacksw/handcal//NONSGML v1.0//EN
BEGIN:VEVENT
SUMMARY:Entrainement Baby
UID:9565ed45-2497-4822-b87d-97f30fd7a1e3
DTSTART:20250222T083000Z
DTEND:20250222T093000Z
LOCATION:Localisation Gymnase Pierre Bodet 16000 Angouleme
CATEGORIES:Entrainement
STATUS:
URL;VALUE=URI:https://www.angoulemebasketclub.fr/evenements/2025/02/22/entrainement-baby-2090179
END:VEVENT
END:VCALENDAR
