BEGIN:VCALENDAR
VERSION:2.0
PRODID:-//hacksw/handcal//NONSGML v1.0//EN
BEGIN:VEVENT
SUMMARY:Entrainement U18 1 et 2
UID:aacb75a2-d569-4ee4-bf69-0d055521bfc2
DTSTART:20250220T181500Z
DTEND:20250220T193000Z
LOCATION:Salle Pierre de Coubertin 74 rue de la Tresoriere 16000 ANGOULEME
CATEGORIES:Entrainement
STATUS:
URL;VALUE=URI:https://www.angoulemebasketclub.fr/evenements/2025/02/20/entrainement-u18-1-et-2-2089968
END:VEVENT
END:VCALENDAR
