BEGIN:VCALENDAR
VERSION:2.0
PRODID:-//hacksw/handcal//NONSGML v1.0//EN
BEGIN:VEVENT
SUMMARY:Entrainement U15 1 et 2
UID:29777462-2b8b-43a0-9370-6b334361c236
DTSTART:20250220T170000Z
DTEND:20250220T181500Z
LOCATION:Salle Pierre de Coubertin 74 rue de la Tresoriere 16000 ANGOULEME
CATEGORIES:Entrainement
STATUS:
URL;VALUE=URI:https://www.angoulemebasketclub.fr/evenements/2025/02/20/entrainement-u15-1-et-2-2089934
END:VEVENT
END:VCALENDAR
