BEGIN:VCALENDAR
VERSION:2.0
PRODID:-//hacksw/handcal//NONSGML v1.0//EN
BEGIN:VEVENT
SUMMARY:Entraiement U13 F
UID:b0971e2e-29da-477f-a3f8-f4fddc856105
DTSTART:20250220T170000Z
DTEND:20250220T190000Z
LOCATION:Localisation Gymnase Pierre Bodet 16000  Angouleme
CATEGORIES:Entrainement
STATUS:
URL;VALUE=URI:https://www.angoulemebasketclub.fr/evenements/2025/02/20/entraiement-u13-f-2089993
END:VEVENT
END:VCALENDAR
