BEGIN:VCALENDAR
VERSION:2.0
PRODID:-//hacksw/handcal//NONSGML v1.0//EN
BEGIN:VEVENT
SUMMARY:Entrainement U13 F
UID:170e6594-facb-4abf-aafa-a45d3e4d5b79
DTSTART:20250219T170000Z
DTEND:20250219T181500Z
LOCATION:Localisation Gymnase Pierre Bodet 16000 Angouleme
CATEGORIES:Entrainement
STATUS:
URL;VALUE=URI:https://www.angoulemebasketclub.fr/evenements/2025/02/19/entrainement-u13-f-2089399
END:VEVENT
END:VCALENDAR
