BEGIN:VCALENDAR
VERSION:2.0
PRODID:-//hacksw/handcal//NONSGML v1.0//EN
BEGIN:VEVENT
SUMMARY:Entrainement U13 A et B
UID:ab39cb22-0d93-4d6e-9ace-f39580e27f0f
DTSTART:20250219T174500Z
DTEND:20250219T193000Z
LOCATION:Salle Pierre de Coubertin 74 rue de la Tresoriere 16000 ANGOULEME
CATEGORIES:Entrainement
STATUS:
URL;VALUE=URI:https://www.angoulemebasketclub.fr/evenements/2025/02/19/entrainement-u13-a-et-b-2089326
END:VEVENT
END:VCALENDAR
