BEGIN:VCALENDAR
VERSION:2.0
PRODID:-//hacksw/handcal//NONSGML v1.0//EN
BEGIN:VEVENT
SUMMARY:Entrainement RM3
UID:fc154019-97da-4a42-b64c-442856358c07
DTSTART:20250219T193000Z
DTEND:20250219T210000Z
LOCATION:Localisation   
CATEGORIES:Entrainement
STATUS:
URL;VALUE=URI:https://www.angoulemebasketclub.fr/evenements/2025/02/19/entrainement-rm3-2089363
END:VEVENT
END:VCALENDAR
