BEGIN:VCALENDAR
VERSION:2.0
PRODID:-//hacksw/handcal//NONSGML v1.0//EN
BEGIN:VEVENT
SUMMARY:Entrainement Loisirs
UID:65ec1a98-b55d-4245-8370-9e6156088226
DTSTART:20250218T200000Z
DTEND:20250218T213000Z
LOCATION:Salle Pierre de Coubertin 74 rue de la Tresoriere 16000 ANGOULEME
CATEGORIES:Entrainement
STATUS:
URL;VALUE=URI:https://www.angoulemebasketclub.fr/evenements/2025/02/18/entrainement-loisirs-2089219
END:VEVENT
END:VCALENDAR
