BEGIN:VCALENDAR
VERSION:2.0
PRODID:-//hacksw/handcal//NONSGML v1.0//EN
BEGIN:VEVENT
SUMMARY:Entrainement DM1 et DM2
UID:62930d9a-3c29-4630-a27c-d68313002d7f
DTSTART:20250218T181500Z
DTEND:20250218T200000Z
LOCATION:Salle Pierre de Coubertin 74 rue de la Tresoriere 16000 ANGOULEME
CATEGORIES:Entrainement
STATUS:
URL;VALUE=URI:https://www.angoulemebasketclub.fr/evenements/2025/02/18/entrainement-dm1-et-dm2-2089185
END:VEVENT
END:VCALENDAR
