BEGIN:VCALENDAR
VERSION:2.0
PRODID:-//hacksw/handcal//NONSGML v1.0//EN
BEGIN:VEVENT
SUMMARY:Entrainement U13 A
UID:ed2e793d-c719-439b-849a-7f05b05097c7
DTSTART:20250217T170000Z
DTEND:20250217T190000Z
LOCATION:Localisation Gymnase Pierre Bodet 16000 Angouleme
CATEGORIES:Entrainement
STATUS:
URL;VALUE=URI:https://www.angoulemebasketclub.fr/evenements/2025/02/17/entrainement-u13-a-2089103
END:VEVENT
END:VCALENDAR
