BEGIN:VCALENDAR
VERSION:2.0
PRODID:-//hacksw/handcal//NONSGML v1.0//EN
BEGIN:VEVENT
SUMMARY:Entrainement U11 A et B
UID:4e364d46-4286-4def-be40-e03ee17d8489
DTSTART:20250214T170000Z
DTEND:20250214T181500Z
LOCATION:Salle Pierre de Coubertin 74 rue de la Tresoriere 16000 ANGOULEME
CATEGORIES:Entrainement
STATUS:
URL;VALUE=URI:https://www.angoulemebasketclub.fr/evenements/2025/02/14/entrainement-u11-a-et-b-2090029
END:VEVENT
END:VCALENDAR
