BEGIN:VCALENDAR
VERSION:2.0
PRODID:-//hacksw/handcal//NONSGML v1.0//EN
BEGIN:VEVENT
SUMMARY:Entrainement U15 1 et 2
UID:a54fda5b-5bd8-41b6-89d3-18f7a1cd9eef
DTSTART:20250213T170000Z
DTEND:20250213T181500Z
LOCATION:Salle Pierre de Coubertin 74 rue de la Tresoriere 16000 ANGOULEME
CATEGORIES:Entrainement
STATUS:
URL;VALUE=URI:https://www.angoulemebasketclub.fr/evenements/2025/02/13/entrainement-u15-1-et-2-2089932
END:VEVENT
END:VCALENDAR
