BEGIN:VCALENDAR
VERSION:2.0
PRODID:-//hacksw/handcal//NONSGML v1.0//EN
BEGIN:VEVENT
SUMMARY:Entraiement U13 F
UID:06620ffa-5c07-4288-929b-b60fde5fa72c
DTSTART:20250213T170000Z
DTEND:20250213T190000Z
LOCATION:Localisation Gymnase Pierre Bodet 16000  Angouleme
CATEGORIES:Entrainement
STATUS:
URL;VALUE=URI:https://www.angoulemebasketclub.fr/evenements/2025/02/13/entraiement-u13-f-2089992
END:VEVENT
END:VCALENDAR
