BEGIN:VCALENDAR
VERSION:2.0
PRODID:-//hacksw/handcal//NONSGML v1.0//EN
BEGIN:VEVENT
SUMMARY:Entrainement U15 2
UID:7ef3a7e0-314e-440e-86e9-ac4b6318b866
DTSTART:20250212T181500Z
DTEND:20250212T193000Z
LOCATION:Localisation Gymnase Pierre Bodet 16000 Angouleme
CATEGORIES:Entrainement
STATUS:
URL;VALUE=URI:https://www.angoulemebasketclub.fr/evenements/2025/02/12/entrainement-u15-2-2089431
END:VEVENT
END:VCALENDAR
