BEGIN:VCALENDAR
VERSION:2.0
PRODID:-//hacksw/handcal//NONSGML v1.0//EN
BEGIN:VEVENT
SUMMARY:Entrainement U13 A et B
UID:946dd583-24f7-45ee-b184-27acf4cf278b
DTSTART:20250212T174500Z
DTEND:20250212T193000Z
LOCATION:Salle Pierre de Coubertin 74 rue de la Tresoriere 16000 ANGOULEME
CATEGORIES:Entrainement
STATUS:
URL;VALUE=URI:https://www.angoulemebasketclub.fr/evenements/2025/02/12/entrainement-u13-a-et-b-2089325
END:VEVENT
END:VCALENDAR
