BEGIN:VCALENDAR
VERSION:2.0
PRODID:-//hacksw/handcal//NONSGML v1.0//EN
BEGIN:VEVENT
SUMMARY:Entrainement DM2
UID:0ee036dd-94de-4122-8de6-a1b5871101fb
DTSTART:20250212T193000Z
DTEND:20250212T213000Z
LOCATION:Localisation Gymnase Pierre Bodet 16000 Angouleme
CATEGORIES:Entrainement
STATUS:
URL;VALUE=URI:https://www.angoulemebasketclub.fr/evenements/2025/02/12/entrainement-dm2-2089469
END:VEVENT
END:VCALENDAR
