BEGIN:VCALENDAR
VERSION:2.0
PRODID:-//hacksw/handcal//NONSGML v1.0//EN
BEGIN:VEVENT
SUMMARY:Entrainement DM1 et DM2
UID:56f8b03f-5b91-46b9-9520-94b838c119d1
DTSTART:20250211T181500Z
DTEND:20250211T200000Z
LOCATION:Salle Pierre de Coubertin 74 rue de la Tresoriere 16000 ANGOULEME
CATEGORIES:Entrainement
STATUS:
URL;VALUE=URI:https://www.angoulemebasketclub.fr/evenements/2025/02/11/entrainement-dm1-et-dm2-2089184
END:VEVENT
END:VCALENDAR
