BEGIN:VCALENDAR
VERSION:2.0
PRODID:-//hacksw/handcal//NONSGML v1.0//EN
BEGIN:VEVENT
SUMMARY:Entrainement U13 F
UID:56dca69a-1763-46b1-9630-9be0ee16ad2f
DTSTART:20250210T171500Z
DTEND:20250210T190000Z
LOCATION:Salle Pierre de Coubertin 74 rue de la Tresoriere 16000 ANGOULEME
CATEGORIES:Entrainement
STATUS:
URL;VALUE=URI:https://www.angoulemebasketclub.fr/evenements/2025/02/10/entrainement-u13-f-2089068
END:VEVENT
END:VCALENDAR
