BEGIN:VCALENDAR
VERSION:2.0
PRODID:-//hacksw/handcal//NONSGML v1.0//EN
BEGIN:VEVENT
SUMMARY:Entrainement U13 A
UID:be595bcb-24bf-4eb6-a62d-db2f5b8b569a
DTSTART:20250210T170000Z
DTEND:20250210T190000Z
LOCATION:Localisation Gymnase Pierre Bodet 16000 Angouleme
CATEGORIES:Entrainement
STATUS:
URL;VALUE=URI:https://www.angoulemebasketclub.fr/evenements/2025/02/10/entrainement-u13-a-2089102
END:VEVENT
END:VCALENDAR
