BEGIN:VCALENDAR
VERSION:2.0
PRODID:-//hacksw/handcal//NONSGML v1.0//EN
BEGIN:VEVENT
SUMMARY:Entrainement Baby
UID:91cb08e0-4c61-4b5d-9d7a-1e65d758ed7c
DTSTART:20250208T083000Z
DTEND:20250208T093000Z
LOCATION:Localisation Gymnase Pierre Bodet 16000 Angouleme
CATEGORIES:Entrainement
STATUS:
URL;VALUE=URI:https://www.angoulemebasketclub.fr/evenements/2025/02/08/entrainement-baby-2090177
END:VEVENT
END:VCALENDAR
