BEGIN:VCALENDAR
VERSION:2.0
PRODID:-//hacksw/handcal//NONSGML v1.0//EN
BEGIN:VEVENT
SUMMARY:Entrainement U18 G
UID:d25d5624-5489-4a9e-95ac-b9994b0821e3
DTSTART:20250207T170000Z
DTEND:20250207T190000Z
LOCATION:Localisation Gymnase de la Grande Garenne 16000 Angouleme
CATEGORIES:Entrainement
STATUS:
URL;VALUE=URI:https://www.angoulemebasketclub.fr/evenements/2025/02/07/entrainement-u18-g-2090140
END:VEVENT
END:VCALENDAR
