BEGIN:VCALENDAR
VERSION:2.0
PRODID:-//hacksw/handcal//NONSGML v1.0//EN
BEGIN:VEVENT
SUMMARY:Entrainement DM1
UID:7524476a-f362-4b53-bb29-589d9902675b
DTSTART:20250207T194500Z
DTEND:20250207T210000Z
LOCATION:Salle Pierre de Coubertin 74 rue de la Tresoriere 16000 ANGOULEME
CATEGORIES:Entrainement
STATUS:
URL;VALUE=URI:https://www.angoulemebasketclub.fr/evenements/2025/02/07/entrainement-dm1-2090102
END:VEVENT
END:VCALENDAR
