BEGIN:VCALENDAR
VERSION:2.0
PRODID:-//hacksw/handcal//NONSGML v1.0//EN
BEGIN:VEVENT
SUMMARY:Entrainement U18 1 et 2
UID:5d770875-56ee-460b-84b4-4876137c89f1
DTSTART:20250206T181500Z
DTEND:20250206T193000Z
LOCATION:Salle Pierre de Coubertin 74 rue de la Tresoriere 16000 ANGOULEME
CATEGORIES:Entrainement
STATUS:
URL;VALUE=URI:https://www.angoulemebasketclub.fr/evenements/2025/02/06/entrainement-u18-1-et-2-2089966
END:VEVENT
END:VCALENDAR
