BEGIN:VCALENDAR
VERSION:2.0
PRODID:-//hacksw/handcal//NONSGML v1.0//EN
BEGIN:VEVENT
SUMMARY:Entrainement U18 F
UID:0cd10752-79ce-429a-b508-e56d806a8682
DTSTART:20250205T161500Z
DTEND:20250205T174500Z
LOCATION:Salle Pierre de Coubertin 74 rue de la Tresoriere 16000 ANGOULEME
CATEGORIES:Entrainement
STATUS:
URL;VALUE=URI:https://www.angoulemebasketclub.fr/evenements/2025/02/05/entrainement-u18-f-2089290
END:VEVENT
END:VCALENDAR
