BEGIN:VCALENDAR
VERSION:2.0
PRODID:-//hacksw/handcal//NONSGML v1.0//EN
BEGIN:VEVENT
SUMMARY:Entrainement U13 A et B
UID:cfb17597-b2fb-4083-bfa7-0472607aa268
DTSTART:20250205T174500Z
DTEND:20250205T193000Z
LOCATION:Salle Pierre de Coubertin 74 rue de la Tresoriere 16000 ANGOULEME
CATEGORIES:Entrainement
STATUS:
URL;VALUE=URI:https://www.angoulemebasketclub.fr/evenements/2025/02/05/entrainement-u13-a-et-b-2089324
END:VEVENT
END:VCALENDAR
