BEGIN:VCALENDAR
VERSION:2.0
PRODID:-//hacksw/handcal//NONSGML v1.0//EN
BEGIN:VEVENT
SUMMARY:Entrainement RM3
UID:9912d2cc-68db-435f-945e-ee678cedb220
DTSTART:20250205T193000Z
DTEND:20250205T210000Z
LOCATION:Localisation   
CATEGORIES:Entrainement
STATUS:
URL;VALUE=URI:https://www.angoulemebasketclub.fr/evenements/2025/02/05/entrainement-rm3-2089361
END:VEVENT
END:VCALENDAR
