BEGIN:VCALENDAR
VERSION:2.0
PRODID:-//hacksw/handcal//NONSGML v1.0//EN
BEGIN:VEVENT
SUMMARY:Entrainement DM2
UID:dc838d53-2918-4def-88f2-1db92c306f4b
DTSTART:20250205T193000Z
DTEND:20250205T213000Z
LOCATION:Localisation Gymnase Pierre Bodet 16000 Angouleme
CATEGORIES:Entrainement
STATUS:
URL;VALUE=URI:https://www.angoulemebasketclub.fr/evenements/2025/02/05/entrainement-dm2-2089468
END:VEVENT
END:VCALENDAR
