BEGIN:VCALENDAR
VERSION:2.0
PRODID:-//hacksw/handcal//NONSGML v1.0//EN
BEGIN:VEVENT
SUMMARY:Entrainement U13 B
UID:76e61e56-cb13-4981-a08f-acd88517175f
DTSTART:20250204T170000Z
DTEND:20250204T181500Z
LOCATION:Salle Pierre de Coubertin 74 rue de la Tresoriere 16000 ANGOULEME
CATEGORIES:Entrainement
STATUS:
URL;VALUE=URI:https://www.angoulemebasketclub.fr/evenements/2025/02/04/entrainement-u13-b-2089134
END:VEVENT
END:VCALENDAR
