BEGIN:VCALENDAR
VERSION:2.0
PRODID:-//hacksw/handcal//NONSGML v1.0//EN
BEGIN:VEVENT
SUMMARY:Entrainement Loisirs
UID:2cb57adc-b078-4a6d-9235-549399aa682d
DTSTART:20250204T200000Z
DTEND:20250204T213000Z
LOCATION:Salle Pierre de Coubertin 74 rue de la Tresoriere 16000 ANGOULEME
CATEGORIES:Entrainement
STATUS:
URL;VALUE=URI:https://www.angoulemebasketclub.fr/evenements/2025/02/04/entrainement-loisirs-2089217
END:VEVENT
END:VCALENDAR
