BEGIN:VCALENDAR
VERSION:2.0
PRODID:-//hacksw/handcal//NONSGML v1.0//EN
BEGIN:VEVENT
SUMMARY:Entrainement DM1 et DM2
UID:259ccda6-60b2-4e1c-b6fe-ed04d639003b
DTSTART:20250204T181500Z
DTEND:20250204T200000Z
LOCATION:Salle Pierre de Coubertin 74 rue de la Tresoriere 16000 ANGOULEME
CATEGORIES:Entrainement
STATUS:
URL;VALUE=URI:https://www.angoulemebasketclub.fr/evenements/2025/02/04/entrainement-dm1-et-dm2-2089183
END:VEVENT
END:VCALENDAR
