BEGIN:VCALENDAR
VERSION:2.0
PRODID:-//hacksw/handcal//NONSGML v1.0//EN
BEGIN:VEVENT
SUMMARY:Entrainement U13 A
UID:eca1c89f-ff4a-4926-b46a-89dac3474b32
DTSTART:20250203T170000Z
DTEND:20250203T190000Z
LOCATION:Localisation Gymnase Pierre Bodet 16000 Angouleme
CATEGORIES:Entrainement
STATUS:
URL;VALUE=URI:https://www.angoulemebasketclub.fr/evenements/2025/02/03/entrainement-u13-a-2089101
END:VEVENT
END:VCALENDAR
