BEGIN:VCALENDAR
VERSION:2.0
PRODID:-//hacksw/handcal//NONSGML v1.0//EN
BEGIN:VEVENT
SUMMARY:Entrainement Baby
UID:0307fde1-6221-4c37-906b-b88fc3e36ee4
DTSTART:20250201T083000Z
DTEND:20250201T093000Z
LOCATION:Localisation Gymnase Pierre Bodet 16000 Angouleme
CATEGORIES:Entrainement
STATUS:
URL;VALUE=URI:https://www.angoulemebasketclub.fr/evenements/2025/02/01/entrainement-baby-2090176
END:VEVENT
END:VCALENDAR
