BEGIN:VCALENDAR
VERSION:2.0
PRODID:-//hacksw/handcal//NONSGML v1.0//EN
BEGIN:VEVENT
SUMMARY:Entrainement U18 G
UID:5a48acd5-0e37-4cea-a53a-ffc490f36a47
DTSTART:20250131T170000Z
DTEND:20250131T190000Z
LOCATION:Localisation Gymnase de la Grande Garenne 16000 Angouleme
CATEGORIES:Entrainement
STATUS:
URL;VALUE=URI:https://www.angoulemebasketclub.fr/evenements/2025/01/31/entrainement-u18-g-2090139
END:VEVENT
END:VCALENDAR
