BEGIN:VCALENDAR
VERSION:2.0
PRODID:-//hacksw/handcal//NONSGML v1.0//EN
BEGIN:VEVENT
SUMMARY:Entrainement U11 A et B
UID:163d31f2-f8f7-4b4f-b06a-31b65412c519
DTSTART:20250131T170000Z
DTEND:20250131T181500Z
LOCATION:Salle Pierre de Coubertin 74 rue de la Tresoriere 16000 ANGOULEME
CATEGORIES:Entrainement
STATUS:
URL;VALUE=URI:https://www.angoulemebasketclub.fr/evenements/2025/01/31/entrainement-u11-a-et-b-2090027
END:VEVENT
END:VCALENDAR
