BEGIN:VCALENDAR
VERSION:2.0
PRODID:-//hacksw/handcal//NONSGML v1.0//EN
BEGIN:VEVENT
SUMMARY:Entrainement DM1
UID:c53f1983-4c8e-4940-9ee4-d0dd093aa352
DTSTART:20250131T194500Z
DTEND:20250131T210000Z
LOCATION:Salle Pierre de Coubertin 74 rue de la Tresoriere 16000 ANGOULEME
CATEGORIES:Entrainement
STATUS:
URL;VALUE=URI:https://www.angoulemebasketclub.fr/evenements/2025/01/31/entrainement-dm1-2090101
END:VEVENT
END:VCALENDAR
