BEGIN:VCALENDAR
VERSION:2.0
PRODID:-//hacksw/handcal//NONSGML v1.0//EN
BEGIN:VEVENT
SUMMARY:Entrainement U18 1 et 2
UID:68b65004-6ef5-4246-b412-135bffd35fa9
DTSTART:20250130T181500Z
DTEND:20250130T193000Z
LOCATION:Salle Pierre de Coubertin 74 rue de la Tresoriere 16000 ANGOULEME
CATEGORIES:Entrainement
STATUS:
URL;VALUE=URI:https://www.angoulemebasketclub.fr/evenements/2025/01/30/entrainement-u18-1-et-2-2089965
END:VEVENT
END:VCALENDAR
