BEGIN:VCALENDAR
VERSION:2.0
PRODID:-//hacksw/handcal//NONSGML v1.0//EN
BEGIN:VEVENT
SUMMARY:Entrainement U15 1 et 2
UID:1d366f82-ab0d-4013-99d1-add8b96ae68f
DTSTART:20250130T170000Z
DTEND:20250130T181500Z
LOCATION:Salle Pierre de Coubertin 74 rue de la Tresoriere 16000 ANGOULEME
CATEGORIES:Entrainement
STATUS:
URL;VALUE=URI:https://www.angoulemebasketclub.fr/evenements/2025/01/30/entrainement-u15-1-et-2-2089930
END:VEVENT
END:VCALENDAR
