BEGIN:VCALENDAR
VERSION:2.0
PRODID:-//hacksw/handcal//NONSGML v1.0//EN
BEGIN:VEVENT
SUMMARY:Entraiement U13 F
UID:83fdc5a0-a1dc-4865-be68-adce2c58c613
DTSTART:20250130T170000Z
DTEND:20250130T190000Z
LOCATION:Localisation Gymnase Pierre Bodet 16000  Angouleme
CATEGORIES:Entrainement
STATUS:
URL;VALUE=URI:https://www.angoulemebasketclub.fr/evenements/2025/01/30/entraiement-u13-f-2089990
END:VEVENT
END:VCALENDAR
