BEGIN:VCALENDAR
VERSION:2.0
PRODID:-//hacksw/handcal//NONSGML v1.0//EN
BEGIN:VEVENT
SUMMARY:Entrainement U15 2
UID:bea867c2-4a67-414f-8d8a-bc55ef4ef6c4
DTSTART:20250129T181500Z
DTEND:20250129T193000Z
LOCATION:Localisation Gymnase Pierre Bodet 16000 Angouleme
CATEGORIES:Entrainement
STATUS:
URL;VALUE=URI:https://www.angoulemebasketclub.fr/evenements/2025/01/29/entrainement-u15-2-2089429
END:VEVENT
END:VCALENDAR
